BEGIN:VCALENDAR
VERSION:2.0
METHOD:PUBLISH
PRODID:-//Accessible Web Design//My Calendar//http://www.joedolson.com//v2.4.12//EN';
BEGIN:VEVENT
UID:174-115
LOCATION:Eversource (formerly Northeast Utilities) 107 Selden Street  Berlin CT 06037
SUMMARY:CHC Meeting
DTSTAMP:20231205T233000Z
ORGANIZER;CN=Rebecca Harnish:MAILTO:REBECCA@ALLGREENHYDROSEED.COM
DTSTART:20231205T233000Z
DTEND:20231206T003000Z
CATEGORIES:CHC Meeting
URL;VALUE=URI:
DESCRIPTION;ENCODING=QUOTED-PRINTABLE:
END:VEVENT
END:VCALENDAR