BEGIN:VCALENDAR
VERSION:2.0
METHOD:PUBLISH
PRODID:-//Accessible Web Design//My Calendar//http://www.joedolson.com//v2.4.12//EN';
BEGIN:VEVENT
UID:168-109
LOCATION:Eversource (formerly Northeast Utilities) 107 Selden Street  Berlin CT 
SUMMARY:CHC Meeting
DTSTAMP:20221004T233000Z
ORGANIZER;CN=Lauri Goulet:MAILTO:lgoulet@att.net
DTSTART:20221004T233000Z
DTEND:20221005T003000Z
CATEGORIES:CHC Meeting
URL;VALUE=URI:
DESCRIPTION;ENCODING=QUOTED-PRINTABLE:
END:VEVENT
END:VCALENDAR